BEGIN:VCALENDAR
VERSION:2.0
PRODID:-//TFH Elk Grove - ECPv6.5.1.5//NONSGML v1.0//EN
CALSCALE:GREGORIAN
METHOD:PUBLISH
X-WR-CALNAME:TFH Elk Grove
X-ORIGINAL-URL:https://tfhelkgrove.org
X-WR-CALDESC:Events for TFH Elk Grove
REFRESH-INTERVAL;VALUE=DURATION:PT1H
X-Robots-Tag:noindex
X-PUBLISHED-TTL:PT1H
BEGIN:VTIMEZONE
TZID:America/Los_Angeles
BEGIN:DAYLIGHT
TZOFFSETFROM:-0800
TZOFFSETTO:-0700
TZNAME:PDT
DTSTART:20250309T100000
END:DAYLIGHT
BEGIN:STANDARD
TZOFFSETFROM:-0700
TZOFFSETTO:-0800
TZNAME:PST
DTSTART:20251102T090000
END:STANDARD
END:VTIMEZONE
BEGIN:VEVENT
DTSTART;TZID=America/Los_Angeles:20251102T080000
DTEND;TZID=America/Los_Angeles:20251229T170000
DTSTAMP:20260421T065712
CREATED:20251102T172741Z
LAST-MODIFIED:20251112T173105Z
UID:1987-1762070400-1767027600@tfhelkgrove.org
SUMMARY:Food Drive
DESCRIPTION:We understand how difficult it may be for families during the holidays and especially because of the government shutdown. So we are collecting can foods and other items to help those in need. We will collect items every Sunday through the end of 2025.
URL:https://tfhelkgrove.org/event/food-drive/
LOCATION:TFH Elk Grove Church\, 9555 Calvine Rd\, Sacramento\, CA 95829\, United States\, Sacramento\, CA\, 95829\, United States
ATTACH;FMTTYPE=image/png:https://tfhelkgrove.org/wp-content/uploads/2025/11/GS-Food-Drive_20251101_201623_00002.png
ORGANIZER;CN="TFH":MAILTO:info@tfhelkgrove.org
END:VEVENT
BEGIN:VEVENT
DTSTART;TZID=America/Los_Angeles:20251213T190000
DTEND;TZID=America/Los_Angeles:20251213T210000
DTSTAMP:20260421T065712
CREATED:20251209T055448Z
LAST-MODIFIED:20251209T055448Z
UID:2000-1765652400-1765659600@tfhelkgrove.org
SUMMARY:Youth Christmas Party
DESCRIPTION:
URL:https://tfhelkgrove.org/event/youth-christmas-party/
LOCATION:CA
ATTACH;FMTTYPE=image/jpeg:https://tfhelkgrove.org/wp-content/uploads/2025/12/IMG_9194.jpg
ORGANIZER;CN="TFH":MAILTO:info@tfhelkgrove.org
END:VEVENT
BEGIN:VEVENT
DTSTART;TZID=America/Los_Angeles:20251221T090000
DTEND;TZID=America/Los_Angeles:20251221T123000
DTSTAMP:20260421T065712
CREATED:20251209T051948Z
LAST-MODIFIED:20251209T052409Z
UID:1994-1766307600-1766320200@tfhelkgrove.org
SUMMARY:CHRISTMAS AT THE FATHER'S HOUSE
DESCRIPTION:
URL:https://tfhelkgrove.org/event/christmas-at-the-fathers-house/
LOCATION:TFH Elk Grove Church\, 9555 Calvine Rd\, Sacramento\, CA 95829\, United States\, Sacramento\, CA\, 95829\, United States
ATTACH;FMTTYPE=image/png:https://tfhelkgrove.org/wp-content/uploads/2025/12/Christmas2025.png
ORGANIZER;CN="TFH":MAILTO:info@tfhelkgrove.org
END:VEVENT
BEGIN:VEVENT
DTSTART;TZID=America/Los_Angeles:20251228T090000
DTEND;TZID=America/Los_Angeles:20251228T120000
DTSTAMP:20260421T065712
CREATED:20251209T053639Z
LAST-MODIFIED:20251209T053639Z
UID:1997-1766912400-1766923200@tfhelkgrove.org
SUMMARY:Church At Home
DESCRIPTION:
URL:https://tfhelkgrove.org/event/church-at-home-2/
LOCATION:CA
ATTACH;FMTTYPE=image/png:https://tfhelkgrove.org/wp-content/uploads/2025/12/Church-at-Home.png
ORGANIZER;CN="TFH":MAILTO:info@tfhelkgrove.org
END:VEVENT
END:VCALENDAR